BEGIN:VCALENDAR
VERSION:2.0
PRODID:-//Evangelische Kirchen in Eschwege - ECPv6.15.20//NONSGML v1.0//EN
CALSCALE:GREGORIAN
METHOD:PUBLISH
X-WR-CALNAME:Evangelische Kirchen in Eschwege
X-ORIGINAL-URL:https://ev-in-eschwege.de
X-WR-CALDESC:Veranstaltungen für Evangelische Kirchen in Eschwege
REFRESH-INTERVAL;VALUE=DURATION:PT1H
X-Robots-Tag:noindex
X-PUBLISHED-TTL:PT1H
BEGIN:VTIMEZONE
TZID:Europe/Berlin
BEGIN:DAYLIGHT
TZOFFSETFROM:+0100
TZOFFSETTO:+0200
TZNAME:CEST
DTSTART:20250330T010000
END:DAYLIGHT
BEGIN:STANDARD
TZOFFSETFROM:+0200
TZOFFSETTO:+0100
TZNAME:CET
DTSTART:20251026T010000
END:STANDARD
BEGIN:DAYLIGHT
TZOFFSETFROM:+0100
TZOFFSETTO:+0200
TZNAME:CEST
DTSTART:20260329T010000
END:DAYLIGHT
BEGIN:STANDARD
TZOFFSETFROM:+0200
TZOFFSETTO:+0100
TZNAME:CET
DTSTART:20261025T010000
END:STANDARD
BEGIN:DAYLIGHT
TZOFFSETFROM:+0100
TZOFFSETTO:+0200
TZNAME:CEST
DTSTART:20270328T010000
END:DAYLIGHT
BEGIN:STANDARD
TZOFFSETFROM:+0200
TZOFFSETTO:+0100
TZNAME:CET
DTSTART:20271031T010000
END:STANDARD
END:VTIMEZONE
BEGIN:VEVENT
DTSTART;TZID=Europe/Berlin:20260125T170000
DTEND;TZID=Europe/Berlin:20260125T170000
DTSTAMP:20260421T201413
CREATED:20251125T140816Z
LAST-MODIFIED:20251125T140816Z
UID:10002043-1769360400-1769360400@ev-in-eschwege.de
SUMMARY:Kirche im Kino
DESCRIPTION:„Ein stummer Hund will ich nicht sein“\nDer Kinofilm folgt dem Schicksal des katholischen Priesters Korbinian Aigner\, der wegen seines Widerstands gegen das NS-Regime nach einigen Leidensstationen\nin den Gefängnissen Freising und Stadelheim und im KZ Sachsenhausen 1941 ins KZ Dachau kam und dort im gefürchteten Arbeitskommando\n„Kräutergarten“ zur Zwangsarbeit herangezogen wurde.\nEr überlebte das Lager\, weil er dem tödlichen Grauen das Leben entgegengesetzt hat:\nUnentdeckt von der SS züchtete er zwischen den Baracken des KZ neue Apfelsorten.\nVor dem Film gibt Pfarrerin Repp-Jost eine kleine Einführung.\nDen Rahmen bilden Gebet und Segen.
URL:https://ev-in-eschwege.de/veranstaltungen/kirche-im-kino/
LOCATION:Cinemagic Corso Eschwege
CATEGORIES:Gemeindeveranstaltungen
END:VEVENT
END:VCALENDAR